BEGIN:VCALENDAR
VERSION:2.0
PRODID:-//HBRAI - ECPv6.15.20//NONSGML v1.0//EN
CALSCALE:GREGORIAN
METHOD:PUBLISH
X-ORIGINAL-URL:https://hbrai.org
X-WR-CALDESC:Events for HBRAI
REFRESH-INTERVAL;VALUE=DURATION:PT1H
X-Robots-Tag:noindex
X-PUBLISHED-TTL:PT1H
BEGIN:VTIMEZONE
TZID:America/Chicago
BEGIN:DAYLIGHT
TZOFFSETFROM:-0600
TZOFFSETTO:-0500
TZNAME:CDT
DTSTART:20240310T080000
END:DAYLIGHT
BEGIN:STANDARD
TZOFFSETFROM:-0500
TZOFFSETTO:-0600
TZNAME:CST
DTSTART:20241103T070000
END:STANDARD
BEGIN:DAYLIGHT
TZOFFSETFROM:-0600
TZOFFSETTO:-0500
TZNAME:CDT
DTSTART:20250309T080000
END:DAYLIGHT
BEGIN:STANDARD
TZOFFSETFROM:-0500
TZOFFSETTO:-0600
TZNAME:CST
DTSTART:20251102T070000
END:STANDARD
BEGIN:DAYLIGHT
TZOFFSETFROM:-0600
TZOFFSETTO:-0500
TZNAME:CDT
DTSTART:20260308T080000
END:DAYLIGHT
BEGIN:STANDARD
TZOFFSETFROM:-0500
TZOFFSETTO:-0600
TZNAME:CST
DTSTART:20261101T070000
END:STANDARD
BEGIN:DAYLIGHT
TZOFFSETFROM:-0600
TZOFFSETTO:-0500
TZNAME:CDT
DTSTART:20270314T080000
END:DAYLIGHT
BEGIN:STANDARD
TZOFFSETFROM:-0500
TZOFFSETTO:-0600
TZNAME:CST
DTSTART:20271107T070000
END:STANDARD
END:VTIMEZONE
BEGIN:VEVENT
DTSTART;TZID=America/Chicago:20260421T090000
DTEND;TZID=America/Chicago:20260421T120000
DTSTAMP:20260425T152822
CREATED:20260330T155012Z
LAST-MODIFIED:20260330T155012Z
UID:12812-1776762000-1776772800@hbrai.org
SUMMARY:SSHBA Estimating
DESCRIPTION:
URL:https://hbrai.org/events/sshba-estimating/
LOCATION:Southwest Suburban HBA Office\, 10767 W. 163rd Place\, Orland Park\, IL\, 60462\, United States
ORGANIZER;CN="Southwest Suburban Homebuilders Association":MAILTO:kpayne@sshba.com
END:VEVENT
BEGIN:VEVENT
DTSTART;TZID=America/Chicago:20260421T080000
DTEND;TZID=America/Chicago:20260421T170000
DTSTAMP:20260425T152822
CREATED:20251124T195524Z
LAST-MODIFIED:20251124T195524Z
UID:12521-1776758400-1776790800@hbrai.org
SUMMARY:QCBR Build My Future
DESCRIPTION:Open to all 8th-12th grade students.
URL:https://hbrai.org/events/qcbr-build-my-future-2/
ORGANIZER;CN="Quad Cities Builders & Remodelers Association":MAILTO:mpeiffer@qcbr.org
END:VEVENT
BEGIN:VEVENT
DTSTART;TZID=America/Chicago:20260416T110000
DTEND;TZID=America/Chicago:20260416T150000
DTSTAMP:20260425T152822
CREATED:20260330T153805Z
LAST-MODIFIED:20260330T153805Z
UID:12805-1776337200-1776351600@hbrai.org
SUMMARY:HB&RMEA 2026 Top Golf Midtown St. Louis
DESCRIPTION:Come join us for a fun day of TopGolf\, Food \, Beverages and Support the Remodelers Council. The Remodelers Council helps to provide grant money to the vocational programs at the high schools to promote trade jobs for our industry. You get to play 3 hours of Top Golf. April 16th starts at 11:00 am-3:00 Pm We have sponsorship opportunities available see Flyer. This event sells out quickly so don’t wait!
URL:https://hbrai.org/events/hbrmea-2026-top-golf-midtown-st-louis/
LOCATION:Top Golf Midtown St. Louis\, 3201 Chouteau Ave\, St. Louis\, MO\, 63103\, United States
ORGANIZER;CN="Metro East Home Builders & Remodelers":MAILTO:eo@hbrmea.org
END:VEVENT
BEGIN:VEVENT
DTSTART;TZID=America/Chicago:20260416T080000
DTEND;TZID=America/Chicago:20260416T170000
DTSTAMP:20260425T152822
CREATED:20260126T160143Z
LAST-MODIFIED:20260126T160143Z
UID:12661-1776326400-1776358800@hbrai.org
SUMMARY:Economic Forecast with Dr. Robert Dietz
DESCRIPTION:
URL:https://hbrai.org/events/economic-forecast-with-dr-robert-dietz/
LOCATION:Boback’s Signature Events\, 6440 Double Eagle Drive\, Woodridge\, IL\, 60517\, United States
ORGANIZER;CN="Southwest Suburban Homebuilders Association":MAILTO:kpayne@sshba.com
END:VEVENT
BEGIN:VEVENT
DTSTART;TZID=America/Chicago:20260409T163000
DTEND;TZID=America/Chicago:20260409T193000
DTSTAMP:20260425T152822
CREATED:20260330T153527Z
LAST-MODIFIED:20260330T153527Z
UID:12802-1775752200-1775763000@hbrai.org
SUMMARY:HB&RMEA 2026 Spring Social
DESCRIPTION:Enjoy a Free Networking and Social Event on April 9th Hosted by Authorized Appliance. There will be food and drinks with Adult beverages as well. Mark your calendar for this Free event to grow your business and hang out with your HBR friends. Feel Free to bring a guest to this event. Thursday April 4th from 4:30-7:30.
URL:https://hbrai.org/events/hbrmea-2026-spring-social/
LOCATION:Authorized Appliance\, 11786 Westline Industrial Dr\, St. Louis\, MO\, 63146\, United States
ORGANIZER;CN="Metro East Home Builders & Remodelers":MAILTO:eo@hbrmea.org
END:VEVENT
BEGIN:VEVENT
DTSTART;TZID=America/Chicago:20260408T170000
DTEND;TZID=America/Chicago:20260408T190000
DTSTAMP:20260425T152822
CREATED:20260330T155733Z
LAST-MODIFIED:20260330T155733Z
UID:12817-1775667600-1775674800@hbrai.org
SUMMARY:QCBR Grill & Chill
DESCRIPTION:
URL:https://hbrai.org/events/qcbr-grill-chill-4/
LOCATION:GreenState Credit Union\, 3902 N. Brady Street\, Davenport\, Iowa\, 52806
ORGANIZER;CN="Quad Cities Builders & Remodelers Association":MAILTO:mpeiffer@qcbr.org
END:VEVENT
BEGIN:VEVENT
DTSTART;TZID=America/Chicago:20260402T100000
DTEND;TZID=America/Chicago:20260402T110000
DTSTAMP:20260425T152822
CREATED:20260330T151738Z
LAST-MODIFIED:20260330T151738Z
UID:12787-1775124000-1775127600@hbrai.org
SUMMARY:NIHBA PWB She Built It! Book Read
DESCRIPTION:Join the NIHBA PWB for a fun and inspiring story time with “The House She Built.”
URL:https://hbrai.org/events/nihba-pwb-she-built-it-book-read/
LOCATION:Aurora Public Library\, 101 S River Street\, Aurora\, IL\, 60506\, United States
ORGANIZER;CN="Northern Illinois Home Builders Association":MAILTO:info@nihba.com
END:VEVENT
BEGIN:VEVENT
DTSTART;TZID=America/Chicago:20260331T180000
DTEND;TZID=America/Chicago:20260331T220000
DTSTAMP:20260425T152822
CREATED:20260330T153305Z
LAST-MODIFIED:20260330T164113Z
UID:12800-1774980000-1774994400@hbrai.org
SUMMARY:HB&RMEA Spring Texas HoldEm Poker Tournament
DESCRIPTION:Enjoy and evening of Texas HoldEm Poker. March 31st at Far Oaks Golf Course\, 6:00 Registration with First Flip at 6:30 Pay Out for top 8 players. Cash prizes based on Number of Participants\, $60 Buy In for tournament (no rebuys)\, 50/50 cash Raffle\, Cash Bar with Appetizers Provided
URL:https://hbrai.org/events/hbrmea/
LOCATION:Far Oaks Golf Course\, 419 Old Collinsville Rd\,\, Caseyville\, Illinois\, 62232
ORGANIZER;CN="Metro East Home Builders & Remodelers":MAILTO:eo@hbrmea.org
END:VEVENT
BEGIN:VEVENT
DTSTART;TZID=America/Chicago:20260324T130000
DTEND;TZID=America/Chicago:20260324T193000
DTSTAMP:20260425T152822
CREATED:20260126T155456Z
LAST-MODIFIED:20260126T155456Z
UID:12658-1774357200-1774380600@hbrai.org
SUMMARY:Illinois Building Industry Lobby Day
DESCRIPTION:Please join the Home Builders and Remodelers Association of Illinois (HBRAI) and the Illinois Lumber and Material Dealers Association (ILMDA) on March 24\, 2026\, for the Illinois Building Industry Lobby Day. Join us to network with industry experts and state legislators as they provide relevant and valuable updates. Don’t miss your chance to meet directly with Illinois lawmakers and make your voice heard by advocating for legislation and policies that affect the building and remodeling industry.
URL:https://hbrai.org/events/illinois-building-industry-lobby-day-2/
LOCATION:Illinois State Library\, 300 S 2nd Street\, Springfield\, IL\, 62701\, United States
ORGANIZER;CN="HBRAI":MAILTO:hbrai@hbrai.org
END:VEVENT
BEGIN:VEVENT
DTSTART;TZID=America/Chicago:20260319T080000
DTEND;TZID=America/Chicago:20260319T170000
DTSTAMP:20260425T152822
CREATED:20260126T155143Z
LAST-MODIFIED:20260126T155143Z
UID:12656-1773907200-1773939600@hbrai.org
SUMMARY:SSHBA Member Hosted Event - Walk Your Plans Chicago Southland
DESCRIPTION:
URL:https://hbrai.org/events/sshba-member-hosted-event-walk-your-plans-chicago-southland/
LOCATION:Walk Your Plans Chicagoland\, 1864 High Grove Lane\, Suite 100\, Naperville\, IL\, United States
ORGANIZER;CN="Southwest Suburban Homebuilders Association":MAILTO:kpayne@sshba.com
END:VEVENT
BEGIN:VEVENT
DTSTART;TZID=America/Chicago:20260312T173000
DTEND;TZID=America/Chicago:20260312T200000
DTSTAMP:20260425T152822
CREATED:20260216T213822Z
LAST-MODIFIED:20260304T203856Z
UID:12700-1773336600-1773345600@hbrai.org
SUMMARY:Building More Than Homes: Advocating for Our Industry
DESCRIPTION:Mike Mannion\, HBRAI Lobbyist; Bailey Thompson\, NAHB Director of State & Local Government Affairs; and Court Airhart\, Chair of the Housing Advocacy Committee\, will present on state and local government affairs.
URL:https://hbrai.org/events/building-more-than-homes-advocating-for-our-industry/
LOCATION:Sierra Pacific Windows\, 500 Mitchell Road\, Glendale Heights\, IL\, 60139\, United States
ORGANIZER;CN="Northern Illinois Home Builders Association":MAILTO:info@nihba.com
END:VEVENT
BEGIN:VEVENT
DTSTART;TZID=America/Chicago:20260227T090000
DTEND;TZID=America/Chicago:20260301T150000
DTSTAMP:20260425T152822
CREATED:20250811T181518Z
LAST-MODIFIED:20250811T181518Z
UID:12158-1772182800-1772377200@hbrai.org
SUMMARY:HB&RMEA 2026 Home Expo
DESCRIPTION:
URL:https://hbrai.org/events/hbrmea-2026-home-expo/
LOCATION:Belle-Clair Fairgrounds and Expo Center\, 200 S Belt E #2650\, Belleville\, Illinois\, 62220
ORGANIZER;CN="Metro East Home Builders & Remodelers":MAILTO:eo@hbrmea.org
END:VEVENT
BEGIN:VEVENT
DTSTART;TZID=America/Chicago:20260226T173000
DTEND;TZID=America/Chicago:20260226T200000
DTSTAMP:20260425T152822
CREATED:20260126T153700Z
LAST-MODIFIED:20260126T153700Z
UID:12648-1772127000-1772136000@hbrai.org
SUMMARY:NIHBA Put Your Best Face Forward
DESCRIPTION:Headshot event with food\, drinks and raffles.
URL:https://hbrai.org/events/nihba-put-your-best-face-forward/
LOCATION:Complete Closet Design\, 401 Earl Rd\, Unit F\, Shorewood\, IL\, 60404\, United States
ORGANIZER;CN="Northern Illinois Home Builders Association":MAILTO:info@nihba.com
END:VEVENT
BEGIN:VEVENT
DTSTART;TZID=America/Chicago:20260226T160000
DTEND;TZID=America/Chicago:20260226T190000
DTSTAMP:20260425T152822
CREATED:20260126T155015Z
LAST-MODIFIED:20260126T155015Z
UID:12653-1772121600-1772132400@hbrai.org
SUMMARY:SSHBA PWB Happy Hour
DESCRIPTION:
URL:https://hbrai.org/events/sshba-pwb-happy-hour/
LOCATION:Fat Rosie’s Taco & Tequila Bar\, 28 Kansas St\, Frankfort\, IL\, 60423\, United States
ORGANIZER;CN="Southwest Suburban Homebuilders Association":MAILTO:kpayne@sshba.com
END:VEVENT
BEGIN:VEVENT
DTSTART;TZID=America/Chicago:20260217T170000
DTEND;TZID=America/Chicago:20260217T190000
DTSTAMP:20260425T152822
CREATED:20260126T165530Z
LAST-MODIFIED:20260126T165530Z
UID:12673-1771347600-1771354800@hbrai.org
SUMMARY:Illinois IBS Reception
DESCRIPTION:
URL:https://hbrai.org/events/illinois-ibs-reception/
LOCATION:Tru by Hilton Orlando\, 6461 Westwood Blvd\, Citrus Ballroom\, Orlando\, FL\, 32821\, United States
ORGANIZER;CN="HBRAI":MAILTO:hbrai@hbrai.org
END:VEVENT
BEGIN:VEVENT
DTSTART;TZID=America/Chicago:20260214T100000
DTEND;TZID=America/Chicago:20260215T180000
DTSTAMP:20260425T152822
CREATED:20250811T175926Z
LAST-MODIFIED:20250811T175926Z
UID:12139-1771063200-1771178400@hbrai.org
SUMMARY:SAHBA New Home and Remodeling Show 2026
DESCRIPTION:
URL:https://hbrai.org/events/sahba-new-home-and-remodeling-show-2026/
LOCATION:Orr Building at the Illinois State Fair
ORGANIZER;CN="Springfield Area Home Builders Association":MAILTO:kathy@springfieldareahba.com
END:VEVENT
BEGIN:VEVENT
DTSTART;TZID=America/Chicago:20260213T100000
DTEND;TZID=America/Chicago:20260215T170000
DTSTAMP:20260425T152822
CREATED:20250811T182215Z
LAST-MODIFIED:20250811T182215Z
UID:12160-1770976800-1771174800@hbrai.org
SUMMARY:QCBR 2026 Home Show
DESCRIPTION:
URL:https://hbrai.org/events/qcbr-2026-home-show/
LOCATION:Bend Xpo\, 922 Mississippi Parkway\, East Moline\, Illinois\, 61244
ORGANIZER;CN="Quad Cities Builders & Remodelers Association":MAILTO:mpeiffer@qcbr.org
END:VEVENT
BEGIN:VEVENT
DTSTART;TZID=America/Chicago:20260212T180000
DTEND;TZID=America/Chicago:20260212T220000
DTSTAMP:20260425T152822
CREATED:20250929T195225Z
LAST-MODIFIED:20250929T195225Z
UID:12233-1770919200-1770933600@hbrai.org
SUMMARY:HB&RMEA Professional Women in Building (PWB) Purse Bingo
DESCRIPTION:Enjoy playing 10 Rounds of Bingo! Each round will win a designer purse valued at $300 and up. There will be a 50/50 drawing and more. Bring snacks to enjoy but no outside beverages. There will be a full bar available for drink purchases!
URL:https://hbrai.org/events/hbrmea-professional-women-in-building-pwb-purse-bingo/
LOCATION:Far Oaks Golf Course\, 419 Old Collinsville Rd\,\, Caseyville\, Illinois\, 62232
ORGANIZER;CN="Metro Decatur Home Builders Association":MAILTO:metrodecaturhba@gmail.com
END:VEVENT
BEGIN:VEVENT
DTSTART;TZID=America/Chicago:20260212T173000
DTEND;TZID=America/Chicago:20260212T203000
DTSTAMP:20260425T152822
CREATED:20260126T153418Z
LAST-MODIFIED:20260126T153418Z
UID:12646-1770917400-1770928200@hbrai.org
SUMMARY:NIHBA at Top Golf
DESCRIPTION:NIHBA Leaderboard Challenge – friendly competition\, great food\, and drinks! Join us at Top Golf Feb 12 and see who claims the top spot.
URL:https://hbrai.org/events/nihba-at-top-golf/
LOCATION:Top Golf\, 3211 Odyssey Ct\, Naperville\, Illinois\, 60563
ORGANIZER;CN="Northern Illinois Home Builders Association":MAILTO:info@nihba.com
END:VEVENT
BEGIN:VEVENT
DTSTART;TZID=America/Chicago:20260204T090000
DTEND;TZID=America/Chicago:20260204T170000
DTSTAMP:20260425T152822
CREATED:20260126T152809Z
LAST-MODIFIED:20260126T152809Z
UID:12644-1770195600-1770224400@hbrai.org
SUMMARY:SSHBA and NIHBA Business Accounting & Job Costing Course
DESCRIPTION:Business Accounting:\nProvides 3 hours of CE for AIBD\, 3 LUS for AIA\, 3 CE for ALL NAHB Designations except HCCP \nJob Costing:\nProvides 3 hours of Continuing Education Credits for CAPS\, CGA\, CGB\, GMB\, Master CGP\, Master CSP
URL:https://hbrai.org/events/sshba-and-nihba-business-accounting-job-costing-course/
LOCATION:Southwest Suburban HBA Office\, 10767 W. 163rd Place\, Orland Park\, IL\, 60462\, United States
ORGANIZER;CN="Southwest Suburban Homebuilders Association":MAILTO:kpayne@sshba.com
END:VEVENT
BEGIN:VEVENT
DTSTART;TZID=America/Chicago:20260131T100000
DTEND;TZID=America/Chicago:20260201T160000
DTSTAMP:20260425T152822
CREATED:20250811T175624Z
LAST-MODIFIED:20250811T175624Z
UID:12137-1769853600-1769961600@hbrai.org
SUMMARY:EAHBA 2026 Home Show
DESCRIPTION:
URL:https://hbrai.org/events/eahba-2026-home-show/
END:VEVENT
BEGIN:VEVENT
DTSTART;TZID=America/Chicago:20260129T080000
DTEND;TZID=America/Chicago:20260129T120000
DTSTAMP:20260425T152822
CREATED:20260126T152455Z
LAST-MODIFIED:20260126T152455Z
UID:12641-1769673600-1769688000@hbrai.org
SUMMARY:NIHBA 2026 Mega Conference
DESCRIPTION:Hear the latest on what’s happening in the building industry and dive into targeted education sessions build around the issues and opportunities shaping 2026.
URL:https://hbrai.org/events/nihba-2026-mega-conference/
LOCATION:Sheraton Lisle Naperville Hotel\, 3000 Warrenville Road\, Lisle\, IL\, 60532\, United States
ORGANIZER;CN="Northern Illinois Home Builders Association":MAILTO:info@nihba.com
END:VEVENT
BEGIN:VEVENT
DTSTART;TZID=America/Chicago:20260123T180000
DTEND;TZID=America/Chicago:20260123T220000
DTSTAMP:20260425T152822
CREATED:20250929T194956Z
LAST-MODIFIED:20250929T194956Z
UID:12230-1769191200-1769205600@hbrai.org
SUMMARY:HB&RMEA 2026 Installation Banquet and Award Ceremony
DESCRIPTION:
URL:https://hbrai.org/events/hbrmea-2026-installation-banquet-and-award-ceremony/
LOCATION:Regency Center\, 400 Regency Park\, O'Fallon\, IL\, 62269\, United States
ORGANIZER;CN="Metro East Home Builders & Remodelers":MAILTO:eo@hbrmea.org
END:VEVENT
BEGIN:VEVENT
DTSTART;TZID=America/Chicago:20260122T173000
DTEND;TZID=America/Chicago:20260122T200000
DTSTAMP:20260425T152822
CREATED:20251124T191832Z
LAST-MODIFIED:20251124T191832Z
UID:12500-1769103000-1769112000@hbrai.org
SUMMARY:BIAGC TopGolf Masters - Golf\, Grub & Good Vibes
DESCRIPTION:
URL:https://hbrai.org/events/biagc-topgolf-masters-golf-grub-good-vibes/
LOCATION:Top Golf\, 3211 Odyssey Ct\, Naperville\, Illinois\, 60563
ORGANIZER;CN="Building Industry Association of Greater Chicago":MAILTO:info@biagc.org
END:VEVENT
BEGIN:VEVENT
DTSTART;TZID=America/Chicago:20260116T170000
DTEND;TZID=America/Chicago:20260116T190000
DTSTAMP:20260425T152822
CREATED:20251124T195245Z
LAST-MODIFIED:20251124T195245Z
UID:12518-1768582800-1768590000@hbrai.org
SUMMARY:QCBR Casino Night
DESCRIPTION:
URL:https://hbrai.org/events/qcbr-casino-night/
LOCATION:The Stern Center\, 1713 3rd Avenue\, Rock Island\, IL\, United States
ORGANIZER;CN="Quad Cities Builders & Remodelers Association":MAILTO:mpeiffer@qcbr.org
END:VEVENT
BEGIN:VEVENT
DTSTART;TZID=America/Chicago:20251218T160000
DTEND;TZID=America/Chicago:20251218T200000
DTSTAMP:20260425T152822
CREATED:20251124T193925Z
LAST-MODIFIED:20251124T193925Z
UID:12512-1766073600-1766088000@hbrai.org
SUMMARY:SSHBA Christmas Party
DESCRIPTION:
URL:https://hbrai.org/events/sshba-christmas-party/
LOCATION:Top Cabinetry\, 9119 W 151st Street\, Orland Park\, IL\, 60462\, United States
ORGANIZER;CN="Southwest Suburban Homebuilders Association":MAILTO:kpayne@sshba.com
END:VEVENT
BEGIN:VEVENT
DTSTART;TZID=America/Chicago:20251211T180000
DTEND;TZID=America/Chicago:20251211T200000
DTSTAMP:20260425T152822
CREATED:20251124T193045Z
LAST-MODIFIED:20251124T193045Z
UID:12506-1765476000-1765483200@hbrai.org
SUMMARY:SAHBA Installation and Holiday Dinner
DESCRIPTION:
URL:https://hbrai.org/events/sahba-installation-and-holiday-dinner/
LOCATION:Island Bay Yacht Club\, 76 Island Bay Lane\, Springfield\, United States
ORGANIZER;CN="Springfield Area Home Builders Association":MAILTO:kathy@springfieldareahba.com
END:VEVENT
BEGIN:VEVENT
DTSTART;TZID=America/Chicago:20251211T173000
DTEND;TZID=America/Chicago:20251211T220000
DTSTAMP:20260425T152823
CREATED:20250811T181335Z
LAST-MODIFIED:20250811T181335Z
UID:12156-1765474200-1765490400@hbrai.org
SUMMARY:HB&RMEA Christmas Party and Casino Night 2025
DESCRIPTION:Let’s Celebrate the Holidays together at the HBR Christmas Party and Casino Night. It will be an evening of fun friendship and a little gambling with play money that you can win prizes . December 11th Doors Open at 5:30 for cocktails (Cash Bar) and Dinner Served at 6:30. Tickets $40 include Casino Chips for Gambling. PWB will have a Whiskey Pull to support the Scholarship Fund.
URL:https://hbrai.org/events/hbrmea-christmas-party-and-casino-night-2025/
LOCATION:FAIR Oaks Golf Course\, 419 Old Collinsville Road\, Caseyville\, IL\, 62232\, United States
ORGANIZER;CN="Metro East Home Builders & Remodelers":MAILTO:eo@hbrmea.org
END:VEVENT
BEGIN:VEVENT
DTSTART;TZID=America/Chicago:20251211T173000
DTEND;TZID=America/Chicago:20251211T203000
DTSTAMP:20260425T152823
CREATED:20251124T192343Z
LAST-MODIFIED:20251124T192343Z
UID:12504-1765474200-1765485000@hbrai.org
SUMMARY:NIHBA Holiday Party
DESCRIPTION:
URL:https://hbrai.org/events/nihba-holiday-party/
LOCATION:Riverside Receptions\, 35 N. River Lane\, Geneva\, Illinois
ORGANIZER;CN="Northern Illinois Home Builders Association":MAILTO:info@nihba.com
END:VEVENT
BEGIN:VEVENT
DTSTART;TZID=America/Chicago:20251210T170000
DTEND;TZID=America/Chicago:20251210T190000
DTSTAMP:20260425T152823
CREATED:20251124T195049Z
LAST-MODIFIED:20251124T195049Z
UID:12515-1765386000-1765393200@hbrai.org
SUMMARY:QCBR December Grill & Chill
DESCRIPTION:
URL:https://hbrai.org/events/qcbr-december-grill-chill/
LOCATION:MacArthur Co.\, 1181 East Franklin Street\, Eldridge\, United States
ORGANIZER;CN="Quad Cities Builders & Remodelers Association":MAILTO:mpeiffer@qcbr.org
END:VEVENT
END:VCALENDAR