BEGIN:VCALENDAR
VERSION:2.0
PRODID:-//HBRAI - ECPv6.15.20//NONSGML v1.0//EN
CALSCALE:GREGORIAN
METHOD:PUBLISH
X-WR-CALNAME:HBRAI
X-ORIGINAL-URL:https://hbrai.org
X-WR-CALDESC:Events for HBRAI
REFRESH-INTERVAL;VALUE=DURATION:PT1H
X-Robots-Tag:noindex
X-PUBLISHED-TTL:PT1H
BEGIN:VTIMEZONE
TZID:UTC
BEGIN:STANDARD
TZOFFSETFROM:+0000
TZOFFSETTO:+0000
TZNAME:UTC
DTSTART:20170101T000000
END:STANDARD
END:VTIMEZONE
BEGIN:VEVENT
DTSTART;TZID=UTC:20181017T103000
DTEND;TZID=UTC:20181017T150000
DTSTAMP:20260419T213325
CREATED:20171110T014617Z
LAST-MODIFIED:20171110T014617Z
UID:5791-1539772200-1539788400@hbrai.org
SUMMARY:Leadership Conference
DESCRIPTION:
URL:https://hbrai.org/event/leadership-conference-2/
LOCATION:Bloomington-Normal Area HBA\, 1713 Tullamore\, Bloomington\, IL\, 61704
CATEGORIES:Leadership Conferences
ORGANIZER;CN="HBRAI":MAILTO:hbrai@hbrai.org
END:VEVENT
BEGIN:VEVENT
DTSTART;TZID=UTC:20180314T103000
DTEND;TZID=UTC:20180314T150000
DTSTAMP:20260419T213325
CREATED:20171110T005529Z
LAST-MODIFIED:20171110T005529Z
UID:5764-1521023400-1521039600@hbrai.org
SUMMARY:Leadership Conference
DESCRIPTION:All HBAI Board of Directors\, Local HBA Presidents\, Executive Officers and Members are encouraged to attend these informal and educational meeting.
URL:https://hbrai.org/event/leadership-conference/
LOCATION:Bloomington-Normal Area HBA\, 1713 Tullamore\, Bloomington\, IL\, 61704
CATEGORIES:Leadership Conferences
ORGANIZER;CN="HBRAI":MAILTO:hbrai@hbrai.org
END:VEVENT
END:VCALENDAR