BEGIN:VCALENDAR
VERSION:2.0
PRODID:-//HBRAI - ECPv6.15.20//NONSGML v1.0//EN
CALSCALE:GREGORIAN
METHOD:PUBLISH
X-WR-CALNAME:HBRAI
X-ORIGINAL-URL:https://hbrai.org
X-WR-CALDESC:Events for HBRAI
REFRESH-INTERVAL;VALUE=DURATION:PT1H
X-Robots-Tag:noindex
X-PUBLISHED-TTL:PT1H
BEGIN:VTIMEZONE
TZID:UTC
BEGIN:STANDARD
TZOFFSETFROM:+0000
TZOFFSETTO:+0000
TZNAME:UTC
DTSTART:20170101T000000
END:STANDARD
END:VTIMEZONE
BEGIN:VEVENT
DTSTART;TZID=UTC:20190220T043000
DTEND;TZID=UTC:20190220T073000
DTSTAMP:20260420T061800
CREATED:20190222T005353Z
LAST-MODIFIED:20190222T005353Z
UID:7167-1550637000-1550647800@hbrai.org
SUMMARY:HBAI Reception @ Beer Park -- Paris Hotel
DESCRIPTION:
URL:https://hbrai.org/event/board-of-directors-meeting-4/
CATEGORIES:HBAI Reception at IBS
END:VEVENT
BEGIN:VEVENT
DTSTART;TZID=UTC:20180110T173000
DTEND;TZID=UTC:20180110T193000
DTSTAMP:20260420T061800
CREATED:20171110T001020Z
LAST-MODIFIED:20171110T001020Z
UID:5751-1515605400-1515612600@hbrai.org
SUMMARY:HBAI Illinois Reception at IBS
DESCRIPTION:This is a casual\, fun event to be held for Illinois Home Builders Members at the Westwood Resort & Spa in Orlando\, Wednesday\, Jan. 10th from 5:30 to 7:30. \nThe reception will be held at the  six lane bowling alley in the “Pavilion Building” on the Resort grounds.  Prepare to have a good time! \n 
URL:https://hbrai.org/event/hbai-illinois-reception-at-ibs/
LOCATION:Westwood Resort & Spa – Bowling Alley\, 9500 Turkey Lake Road\, Orlando\, FL\, 32819
CATEGORIES:HBAI Reception at IBS
ORGANIZER;CN="HBRAI":MAILTO:hbrai@hbrai.org
END:VEVENT
END:VCALENDAR